BEGIN:VCALENDAR
VERSION:2.0
PRODID:-//Ayuntamiento de Gotarrendura - ECPv5.0.3.1//NONSGML v1.0//EN
CALSCALE:GREGORIAN
METHOD:PUBLISH
X-WR-CALNAME:Ayuntamiento de Gotarrendura
X-ORIGINAL-URL:https://www.gotarrendura.es
X-WR-CALDESC:Eventos para Ayuntamiento de Gotarrendura
BEGIN:VTIMEZONE
TZID:UTC
BEGIN:STANDARD
TZOFFSETFROM:+0000
TZOFFSETTO:+0000
TZNAME:UTC
DTSTART:20230101T000000
END:STANDARD
END:VTIMEZONE
BEGIN:VEVENT
DTSTART;TZID=UTC:20230717T080000
DTEND;TZID=UTC:20230731T200000
DTSTAMP:20260424T184816
CREATED:20230416T192506Z
LAST-MODIFIED:20230424T143759Z
UID:3872-1689580800-1690833600@www.gotarrendura.es
SUMMARY:VII Campo Voluntariado Juvenil 2023
DESCRIPTION:Descarga 01 y 02 los carteles del evento: VII Campo Voluntariado Juvenil 2023\, del 17 al 31 de julio de 2023. \nVIl Campo Voluntariado juvenil 2023 \n«Senda Etnobotánica”. \nEn clave Astronómica. \nDel 17 al 31 de Julio. \nDirigido a Jóvenes de 16 y 17 años. \nDisfruta de 15 días haciendo nuevos amigos y realiando un trabajo voluntariado en beneficio de la comunidad. \nCon actividades de ocio y tiempo libre dedicadas a la astronomia y botánica. \nPRECIO 110 €. \nMás información: 920 26 90 38/ 615 65 80 68 inscripciones del 17 al 28 de abril. \nWWW.TRAMITACASTILLAYLEON.JCYL.ES y en WWW.JUVENTUD.JCYL.ES . \n1. 17 AL 31 DE JULIO \n22 PLAZAS. \n110€. \n1. Solicitudes del 17 al 28 de abril \n2. Solicitud en: www.tramitacastillayleon.jcyl.es y en www.juventud.jcyl.es \n3. 03 de mayo lista de admitidos. 4 de mayo corrección de errores en listas. \n4. 8 de mayo sorteo. del 9 al 12 de mayo confiramción de plazas. \n5. Del 16 al 22 de mavo adjuddicaion directa en plazas vacantes. \n6. Desde 1 de junio hasta 5 dias antes del campo 2° repesca. \n
URL:https://www.gotarrendura.es/evento/vii-campo-voluntariado-juvenil-2023/
CATEGORIES:astronomía,Etnobotánica,juvenil,Tiempo libre
ATTACH;FMTTYPE=image/jpeg:https://www.gotarrendura.es/wp-content/uploads/2023/04/evento_VII_campo_voluntariado.jpg
END:VEVENT
END:VCALENDAR