BEGIN:VCALENDAR
VERSION:2.0
PRODID:-//Ayuntamiento de Gotarrendura - ECPv5.0.3.1//NONSGML v1.0//EN
CALSCALE:GREGORIAN
METHOD:PUBLISH
X-WR-CALNAME:Ayuntamiento de Gotarrendura
X-ORIGINAL-URL:https://www.gotarrendura.es
X-WR-CALDESC:Eventos para Ayuntamiento de Gotarrendura
BEGIN:VTIMEZONE
TZID:UTC
BEGIN:STANDARD
TZOFFSETFROM:+0000
TZOFFSETTO:+0000
TZNAME:UTC
DTSTART:20250101T000000
END:STANDARD
END:VTIMEZONE
BEGIN:VEVENT
DTSTART;TZID=UTC:20250329T090000
DTEND;TZID=UTC:20250329T160000
DTSTAMP:20260422T050148
CREATED:20250320T130755Z
LAST-MODIFIED:20250320T131501Z
UID:4832-1743238800-1743264000@www.gotarrendura.es
SUMMARY:Por los caminos de la mística 2025
DESCRIPTION:XVII Marcha Popular por los caminos de la mística 2025 \nSábado 29 marzo de 2025\n09.00H.\nRecepción e inscripciones en la Plaza del Campanario de Gotarrendura y partiremos en autobús a la Ermita de la Virgen de Montalvo en Papatrigo\nHistoria de la Ermita. \n10.00H.\nDespués de tomar un café para entrar en calor\, comenzaremos la Marcha en Papatrigo. \n10.45H.\nParada en Centro de la Laguna del Oso by Kerbest.\nDespoblado medieval de Montalvo.\nErmita de Santa Inés. \n13.30H.\nLlegada a Gotarrendura.\nHistoria de la Ermita de las Nieves.\nTerminamos con degustación de Patatas Revolconas en el Palomar de Santa Teresa. \nPrecio por persona: 5€\nInscripción el mismo día en Plaza Campanario\, Gotarrendura (Ávila).\nInformación: 920 269 038 / 615 658 068. \n
URL:https://www.gotarrendura.es/evento/por-los-caminos-de-la-mistica-2025/
LOCATION:Gotarrendura\, Plaza de Santa Teresa 1\,\, Gotarrendra\, Ávila\, 05163\, España
CATEGORIES:Celebración,cultura,evento,Misa
ATTACH;FMTTYPE=image/jpeg:https://www.gotarrendura.es/wp-content/uploads/2025/03/eventos_por_los_caminos_de_la_mistica_2025.jpg
END:VEVENT
END:VCALENDAR