BEGIN:VCALENDAR
VERSION:2.0
PRODID:-//Ayuntamiento de Gotarrendura - ECPv5.0.3.1//NONSGML v1.0//EN
CALSCALE:GREGORIAN
METHOD:PUBLISH
X-WR-CALNAME:Ayuntamiento de Gotarrendura
X-ORIGINAL-URL:https://www.gotarrendura.es
X-WR-CALDESC:Eventos para Ayuntamiento de Gotarrendura
BEGIN:VTIMEZONE
TZID:UTC
BEGIN:STANDARD
TZOFFSETFROM:+0000
TZOFFSETTO:+0000
TZNAME:UTC
DTSTART:20240101T000000
END:STANDARD
END:VTIMEZONE
BEGIN:VEVENT
DTSTART;TZID=UTC:20241123T110000
DTEND;TZID=UTC:20241123T140000
DTSTAMP:20260422T080353
CREATED:20241116T202027Z
LAST-MODIFIED:20241116T202027Z
UID:4801-1732359600-1732370400@www.gotarrendura.es
SUMMARY:IX Reconocimiento Doña Beatriz de Ahumada
DESCRIPTION:IX Reconocimiento Doña Beatriz de Ahumada \nPROGRAMACIÓN\n11.00H. Bienvenida y recepción de asistentes con café en el Salón del Ayuntamiento de Gotarrendura.\n11.15H. Inauguración Exposición “Mujeres Extraordinarias”.\n11.30H. Inauguración Plaza Dª Beatriz de Ahumada.\n11.45H. Acto conmemorativo 50 Aniversario del fallecimiento de Kate O´Brien.\n12.00H. Entrega Reconocimiento Dª Beatriz de Ahumada a Luis Antequera.\nLugar. Palomar de Santa Teresa.\n12.30H. Mesa Redonda. Santa Teresa en Gotarrendura.\nPonentes. D. José María López\, Mª Carmen Rodríguez y Raquel Martín. \n
URL:https://www.gotarrendura.es/evento/ix-reconocimiento-dona-beatriz-de-ahumada/
LOCATION:Ayuntamiento de Gotarrendura\, Plaza de Santa Teresa 1\, Gotarrendura\, Ávila\, 05163\, Spain
CATEGORIES:Beatriz de Ahumada,Celebración,Inauguración
ATTACH;FMTTYPE=image/jpeg:https://www.gotarrendura.es/wp-content/uploads/2024/11/eventos_IX_reconocimiento_dona_beatriz_de_ahumada.jpg
END:VEVENT
END:VCALENDAR