BEGIN:VCALENDAR
VERSION:2.0
PRODID:-//Ayuntamiento de Gotarrendura - ECPv5.0.3.1//NONSGML v1.0//EN
CALSCALE:GREGORIAN
METHOD:PUBLISH
X-WR-CALNAME:Ayuntamiento de Gotarrendura
X-ORIGINAL-URL:https://www.gotarrendura.es
X-WR-CALDESC:Eventos para Ayuntamiento de Gotarrendura
BEGIN:VTIMEZONE
TZID:UTC
BEGIN:STANDARD
TZOFFSETFROM:+0000
TZOFFSETTO:+0000
TZNAME:UTC
DTSTART:20240101T000000
END:STANDARD
END:VTIMEZONE
BEGIN:VEVENT
DTSTART;TZID=UTC:20240403T120000
DTEND;TZID=UTC:20240403T140000
DTSTAMP:20260422T183120
CREATED:20240330T091844Z
LAST-MODIFIED:20240330T091844Z
UID:4715-1712145600-1712152800@www.gotarrendura.es
SUMMARY:509 cumpleaños de Santa Teresa
DESCRIPTION:PLANTACIÓN DE MORERA.\n12.00H. En el Jardín “Infancia de Teresa”\, plantaremos la morera.\n#unarbolporeuropa. \n12.30H. En el salón del Ayuntamiento\, lectura de poesías de los niños de Gotarrendura y tomaremos un refrigerio.\nSe ruega confirmar asistencia. Gracias. \n!Estáis todos invitados!. \n
URL:https://www.gotarrendura.es/evento/509-cumpleanos-de-santa-teresa/
LOCATION:Ayuntamiento de Gotarrendura\, Plaza de Santa Teresa 1\, Gotarrendura\, Ávila\, 05163\, Spain
CATEGORIES:Celebración,centenario,naturaleza,plantar,Santa Teresa
ATTACH;FMTTYPE=image/jpeg:https://www.gotarrendura.es/wp-content/uploads/2024/03/eventos_509_cumple_santa_teresa_2024.jpg
END:VEVENT
END:VCALENDAR