BEGIN:VCALENDAR
VERSION:2.0
PRODID:-//Ayuntamiento de Gotarrendura - ECPv5.0.3.1//NONSGML v1.0//EN
CALSCALE:GREGORIAN
METHOD:PUBLISH
X-WR-CALNAME:Ayuntamiento de Gotarrendura
X-ORIGINAL-URL:https://www.gotarrendura.es
X-WR-CALDESC:Eventos para Ayuntamiento de Gotarrendura
BEGIN:VTIMEZONE
TZID:UTC
BEGIN:STANDARD
TZOFFSETFROM:+0000
TZOFFSETTO:+0000
TZNAME:UTC
DTSTART:20240101T000000
END:STANDARD
END:VTIMEZONE
BEGIN:VEVENT
DTSTART;TZID=UTC:20240323T100000
DTEND;TZID=UTC:20240323T140000
DTSTAMP:20260422T200536
CREATED:20240226T183923Z
LAST-MODIFIED:20240226T183923Z
UID:4706-1711188000-1711202400@www.gotarrendura.es
SUMMARY:Por los caminos de la Mística · XVI Marcha Popular
DESCRIPTION:Por los caminos de la Mística XVI Marcha Popular.\nSábado 23 de marzo de 2024. \n10.00H. Recepción en la Plaza del Campanario de Gotarrendura y partiremos en autobús a la Ermita Cristo de Santa Teresa de Peñalba de Ávila.\nHistoria de la Ermita: Exiquio Rodríguez \n11.00H. Después de tomar un café para entrar en calor\, comenzaremos la Marcha en Peñalba de Ávila.\nParada en Garoza. \nHistoria de Garoza: Eduardo Duque\n13.00H Llegada a Gotarrendura.\nHistoria del Palomar: Blas Cabrera. \n
URL:https://www.gotarrendura.es/evento/por-los-caminos-de-la-mistica-%c2%b7-xvi-marcha-popular/
LOCATION:Ermita Cristo de Santa Teresa de Peñalba de Ávila\, Calle Fuente 11\, Peñalba de Ávila\, Ávila\, 05163\, España
CATEGORIES:Celebración,cultura,evento
ATTACH;FMTTYPE=image/jpeg:https://www.gotarrendura.es/wp-content/uploads/2024/02/eventos_Mistica_2024.jpg
END:VEVENT
END:VCALENDAR