BEGIN:VCALENDAR
VERSION:2.0
PRODID:-//Ayuntamiento de Gotarrendura - ECPv5.0.3.1//NONSGML v1.0//EN
CALSCALE:GREGORIAN
METHOD:PUBLISH
X-WR-CALNAME:Ayuntamiento de Gotarrendura
X-ORIGINAL-URL:https://www.gotarrendura.es
X-WR-CALDESC:Eventos para Ayuntamiento de Gotarrendura
BEGIN:VTIMEZONE
TZID:UTC
BEGIN:STANDARD
TZOFFSETFROM:+0000
TZOFFSETTO:+0000
TZNAME:UTC
DTSTART:20240101T000000
END:STANDARD
END:VTIMEZONE
BEGIN:VEVENT
DTSTART;TZID=UTC:20240210T173000
DTEND;TZID=UTC:20240210T200000
DTSTAMP:20260422T211004
CREATED:20240207T120711Z
LAST-MODIFIED:20240207T120803Z
UID:4700-1707586200-1707595200@www.gotarrendura.es
SUMMARY:CARNAVAL 2024
DESCRIPTION:17.30H. Concentración en la Plaza Santa Teresa.\nDesfile y Pasacalles amenizado por dulzaina y bombo de “Aires de la Moraña” de Gotarrendura. \n18.00H. Concurso de Disfraces.\nPremio al mejor disfraz infantil [hasta 14 años] y adulto. \n18.30H. Chocolatada y “Disco infantil” en el bar “Los Nenes”. \n
URL:https://www.gotarrendura.es/evento/carnaval-2024/
LOCATION:Plaza de Santa Teresa\, Plaza de Santa Teresa\, Gotarrendura\, Ávila\, 05163\, España
CATEGORIES:Canción,carnaval,Celebración
ATTACH;FMTTYPE=image/jpeg:https://www.gotarrendura.es/wp-content/uploads/2024/02/eventos_Carnaval-2024.jpg
END:VEVENT
END:VCALENDAR