BEGIN:VCALENDAR
VERSION:2.0
PRODID:-//Ayuntamiento de Gotarrendura - ECPv5.0.3.1//NONSGML v1.0//EN
CALSCALE:GREGORIAN
METHOD:PUBLISH
X-WR-CALNAME:Ayuntamiento de Gotarrendura
X-ORIGINAL-URL:https://www.gotarrendura.es
X-WR-CALDESC:Eventos para Ayuntamiento de Gotarrendura
BEGIN:VTIMEZONE
TZID:UTC
BEGIN:STANDARD
TZOFFSETFROM:+0000
TZOFFSETTO:+0000
TZNAME:UTC
DTSTART:20240101T000000
END:STANDARD
END:VTIMEZONE
BEGIN:VEVENT
DTSTART;TZID=UTC:20241116T160000
DTEND;TZID=UTC:20241116T180000
DTSTAMP:20260424T172451
CREATED:20241105T190608Z
LAST-MODIFIED:20241105T190608Z
UID:4799-1731772800-1731780000@www.gotarrendura.es
SUMMARY:Escuela de dulzaina\, tamboril y bombo 2024
DESCRIPTION:Escuela de dulzaina\, tamboril y bombo 2024\nEmpezamos el sábado 16 de noviembre de 16.00H a 18H.\nEn el Salón del Ayuntamiento.\nA partir de 5 años.\nA ser posible\, traer Instrumento. \n
URL:https://www.gotarrendura.es/evento/escuela-de-dulzaina-tamboril-y-bombo-2024/
LOCATION:Ayuntamiento de Gotarrendura\, Plaza de Santa Teresa 1\, Gotarrendura\, Ávila\, 05163\, Spain
CATEGORIES:Arte,baile,Canción,Música
ATTACH;FMTTYPE=image/jpeg:https://www.gotarrendura.es/wp-content/uploads/2024/11/eventos_escuela_dulzaina_2024.jpg
END:VEVENT
END:VCALENDAR