BEGIN:VCALENDAR
VERSION:2.0
PRODID:-//Ayuntamiento de Gotarrendura - ECPv5.0.3.1//NONSGML v1.0//EN
CALSCALE:GREGORIAN
METHOD:PUBLISH
X-WR-CALNAME:Ayuntamiento de Gotarrendura
X-ORIGINAL-URL:https://www.gotarrendura.es
X-WR-CALDESC:Eventos para Ayuntamiento de Gotarrendura
BEGIN:VTIMEZONE
TZID:UTC
BEGIN:STANDARD
TZOFFSETFROM:+0000
TZOFFSETTO:+0000
TZNAME:UTC
DTSTART:20190101T000000
END:STANDARD
END:VTIMEZONE
BEGIN:VEVENT
DTSTART;TZID=UTC:20190515T111500
DTEND;TZID=UTC:20190515T150000
DTSTAMP:20260421T163458
CREATED:20190513T190304Z
LAST-MODIFIED:20190513T190304Z
UID:3471-1557918900-1557932400@www.gotarrendura.es
SUMMARY:San Isidro 2019
DESCRIPTION:San Isidro 2019. \n11.15h. Misa\, procesión y bendición de los campos.\nSeguido por convite en el bar. \n
URL:https://www.gotarrendura.es/evento/san-isidro-2019/
LOCATION:Gotarrendura\, 05163\, España
CATEGORIES:Fiesta,Misa
ATTACH;FMTTYPE=image/jpeg:https://www.gotarrendura.es/wp-content/uploads/2019/05/eventos_san_isidro2019.jpg
END:VEVENT
END:VCALENDAR