BEGIN:VCALENDAR
VERSION:2.0
PRODID:-//Ayuntamiento de Gotarrendura - ECPv5.0.3.1//NONSGML v1.0//EN
CALSCALE:GREGORIAN
METHOD:PUBLISH
X-WR-CALNAME:Ayuntamiento de Gotarrendura
X-ORIGINAL-URL:https://www.gotarrendura.es
X-WR-CALDESC:Eventos para Ayuntamiento de Gotarrendura
BEGIN:VTIMEZONE
TZID:UTC
BEGIN:STANDARD
TZOFFSETFROM:+0000
TZOFFSETTO:+0000
TZNAME:UTC
DTSTART:20180101T000000
END:STANDARD
END:VTIMEZONE
BEGIN:VEVENT
DTSTART;TZID=UTC:20180803T190000
DTEND;TZID=UTC:20180804T013000
DTSTAMP:20260422T230554
CREATED:20180721T203848Z
LAST-MODIFIED:20180721T205656Z
UID:3361-1533322800-1533346200@www.gotarrendura.es
SUMMARY:XXIII Semana Cultural y Fiestas Patronales 2018 _ 03.08.2018
DESCRIPTION:19:00h. Torneo de futbolín.\n20:00h. Juegos autóctonos: Calva.\n00:30h. Disco móvil. \n
URL:https://www.gotarrendura.es/evento/xxiii-semana-cultural-y-fiestas-patronales-2018-03-08-2018/
LOCATION:Gotarrendura\, 05163\, España
CATEGORIES:Fiestas patronales,Semana Cultural
ATTACH;FMTTYPE=image/jpeg:https://www.gotarrendura.es/wp-content/uploads/2018/07/eventos_programa_XXIII_semana_cultural_y_fiestas_patronales2018.jpg
END:VEVENT
BEGIN:VEVENT
DTSTART;TZID=UTC:20180804T103000
DTEND;TZID=UTC:20180805T013000
DTSTAMP:20260422T230554
CREATED:20180721T204248Z
LAST-MODIFIED:20180721T205648Z
UID:3364-1533378600-1533432600@www.gotarrendura.es
SUMMARY:XXIII Semana Cultural y Fiestas Patronales 2018 _ 04.08.2018
DESCRIPTION:10:30h. Concurso de pintura rápida infantil y juvenil. Punto de encuentro Museo Lopéz Berrón.\n17:00h. Juegos de mesa. Brisca.\n19:00h. Bolos Infantiles.\n20:00h. XX Marcha femenina «La Andariega». Patrocinada por el Museo López Berrón\, arte y etnografía.\n00:30h. Verbena «GRUPO SUPERSONICA» y Bingo.  \n
URL:https://www.gotarrendura.es/evento/xxiii-semana-cultural-y-fiestas-patronales-2018-04-08-2018/
LOCATION:Gotarrendura\, 05163\, España
CATEGORIES:Fiestas patronales,Semana Cultural
ATTACH;FMTTYPE=image/jpeg:https://www.gotarrendura.es/wp-content/uploads/2018/07/eventos_programa_XXIII_semana_cultural_y_fiestas_patronales2018.jpg
END:VEVENT
END:VCALENDAR