BEGIN:VCALENDAR
VERSION:2.0
PRODID:-//Ayuntamiento de Gotarrendura - ECPv5.0.3.1//NONSGML v1.0//EN
CALSCALE:GREGORIAN
METHOD:PUBLISH
X-WR-CALNAME:Ayuntamiento de Gotarrendura
X-ORIGINAL-URL:https://www.gotarrendura.es
X-WR-CALDESC:Eventos para Ayuntamiento de Gotarrendura
BEGIN:VTIMEZONE
TZID:UTC
BEGIN:STANDARD
TZOFFSETFROM:+0000
TZOFFSETTO:+0000
TZNAME:UTC
DTSTART:20180101T000000
END:STANDARD
END:VTIMEZONE
BEGIN:VEVENT
DTSTART;TZID=UTC:20180730T180000
DTEND;TZID=UTC:20180730T180000
DTSTAMP:20260421T170950
CREATED:20180721T202444Z
LAST-MODIFIED:20180721T205732Z
UID:3350-1532973600-1532973600@www.gotarrendura.es
SUMMARY:XXIII Semana Cultural y Fiestas Patronales 2018 _ 30.07.2018
DESCRIPTION:18:00h. Color Run.\n20:00h. Juegos Autóctonos. Bolos masculinos. Tango femenino.\n23:00h. Cine de Verano.  \n
URL:https://www.gotarrendura.es/evento/xxiii-semana-cultural-y-fiestas-patronales-2018-30-07-2018/
LOCATION:Gotarrendura\, 05163\, España
CATEGORIES:Fiestas patronales,Semana Cultural
ATTACH;FMTTYPE=image/jpeg:https://www.gotarrendura.es/wp-content/uploads/2018/07/eventos_programa_XXIII_semana_cultural_y_fiestas_patronales2018.jpg
END:VEVENT
END:VCALENDAR