BEGIN:VCALENDAR
VERSION:2.0
PRODID:-//Ayuntamiento de Gotarrendura - ECPv5.0.3.1//NONSGML v1.0//EN
CALSCALE:GREGORIAN
METHOD:PUBLISH
X-WR-CALNAME:Ayuntamiento de Gotarrendura
X-ORIGINAL-URL:https://www.gotarrendura.es
X-WR-CALDESC:Eventos para Ayuntamiento de Gotarrendura
BEGIN:VTIMEZONE
TZID:UTC
BEGIN:STANDARD
TZOFFSETFROM:+0000
TZOFFSETTO:+0000
TZNAME:UTC
DTSTART:20180101T000000
END:STANDARD
END:VTIMEZONE
BEGIN:VEVENT
DTSTART;TZID=UTC:20180729T113000
DTEND;TZID=UTC:20180729T113000
DTSTAMP:20260421T152233
CREATED:20180721T202218Z
LAST-MODIFIED:20180721T205746Z
UID:3348-1532863800-1532863800@www.gotarrendura.es
SUMMARY:XXIII Semana Cultural y Fiestas Patronales 2018 _ 29.07.2018
DESCRIPTION:11:30h. Santa Misa.\n17:00h. Juegos de Mesa: Tute.\n19:00h. Inauguración Observatorio de Estr’éflas\, rea iza a a trav? del Campo de Voluntariado Juvenil.\n21:30h. VIII Edición «Por los Caminos de la Reina». Programa aparte. 23:30 h. Observación de estrellas. \n
URL:https://www.gotarrendura.es/evento/xxiii-semana-cultural-y-fiestas-patronales-2018-29-07-2018/
LOCATION:Gotarrendura\, 05163\, España
CATEGORIES:Fiestas patronales,Semana Cultural
ATTACH;FMTTYPE=image/jpeg:https://www.gotarrendura.es/wp-content/uploads/2018/07/eventos_programa_XXIII_semana_cultural_y_fiestas_patronales2018.jpg
END:VEVENT
END:VCALENDAR