BEGIN:VCALENDAR
VERSION:2.0
PRODID:-//Ayuntamiento de Gotarrendura - ECPv5.0.3.1//NONSGML v1.0//EN
CALSCALE:GREGORIAN
METHOD:PUBLISH
X-WR-CALNAME:Ayuntamiento de Gotarrendura
X-ORIGINAL-URL:https://www.gotarrendura.es
X-WR-CALDESC:Eventos para Ayuntamiento de Gotarrendura
BEGIN:VTIMEZONE
TZID:UTC
BEGIN:STANDARD
TZOFFSETFROM:+0000
TZOFFSETTO:+0000
TZNAME:UTC
DTSTART:20210101T000000
END:STANDARD
END:VTIMEZONE
BEGIN:VEVENT
DTSTART;TZID=UTC:20210801T193000
DTEND;TZID=UTC:20210807T233000
DTSTAMP:20260421T171405
CREATED:20210728T140712Z
LAST-MODIFIED:20210728T140712Z
UID:3676-1627846200-1628379000@www.gotarrendura.es
SUMMARY:XXI Semana Cultural
DESCRIPTION:Domingo 1 de agosto\n19:30h. Inauguración del Centro de Interpretación\nAstronómico y Aula Joven “Angélica”.\n22:30h. Magia a cargo del mago Álvaro Arenas.\nEn el Palomar de Santa Teresa. \nLunes 2 de agosto\n22:30. Concierto acústico de Guitarra\, Jesús Gutiérrez\,\nSerie Planetas. En el Palomar de Santa Teresa. \nMartes 3 de agosto\n12:30h. Taller infantil\, “Los colores de las Estrellas”\nEn la Fragua\, para niñ@s de 4 a 10 años.\nAforo 15 personas.\n22:30h. Recital de Acordeón a cargo de Hilario Velayos\nEn el Palomar de Santa Teresa. \nMiércoles 4 de agosto\n19:30h. Charla\, La materia que no reluce\,\n¿Por qué pensamos que existe la materia oscura? .\nPor Mario Emilio Gómez Santamaría\,\nProfesor de la Universidad de Huelva.\nEn el Salón de la Asoc. Cultural Santa Teresa.\nAforo 40 personas.\n22:30h. Por los Caminos de la Reina.\nDiálogo de la vida de la Reina Isabel I y concierto de Dulzaina por el grupo “Aires de la Moraña”. \nJueves 5 de agosto\n12:30h. Misa en honor a la Virgen de las Nieves.\nEn el Atrio de la Iglesia.\n22:30h. Concierto folclore a cargo del grupo “\nTierras de Castilla”. En el Palomar de Santa Teresa. \nViernes 6 de agosto\n12:30h. Misa en el Atrio de la Iglesia y Regreso de la\nVirgen de las Nieves a su Ermita.\n20:30h. Noche de las Artes. Programa a parte.\nEn el Palomar de Santa Teresa. \nSábado 7 de agosto\n22:30h. Observación y charla iniciación a la Astronomía\ncon Láser verde. Por el GOAA.\nEn el Palomar de Santa Teresa.\nEl aforo en los eventos del Palomar de Santa Teresa será de 150 personas\, cumpliendo todas las normas de seguridad\nsanitaria. \n
URL:https://www.gotarrendura.es/evento/xxi-semana-cultural/
CATEGORIES:Arte,cultura,evento
ATTACH;FMTTYPE=image/jpeg:https://www.gotarrendura.es/wp-content/uploads/2021/07/eventos_XXI_semana_cultural.jpg
END:VEVENT
END:VCALENDAR