BEGIN:VCALENDAR
VERSION:2.0
PRODID:-//Ayuntamiento de Gotarrendura - ECPv5.0.3.1//NONSGML v1.0//EN
CALSCALE:GREGORIAN
METHOD:PUBLISH
X-WR-CALNAME:Ayuntamiento de Gotarrendura
X-ORIGINAL-URL:https://www.gotarrendura.es
X-WR-CALDESC:Eventos para Ayuntamiento de Gotarrendura
BEGIN:VTIMEZONE
TZID:UTC
BEGIN:STANDARD
TZOFFSETFROM:+0000
TZOFFSETTO:+0000
TZNAME:UTC
DTSTART:20160101T000000
END:STANDARD
END:VTIMEZONE
BEGIN:VEVENT
DTSTART;TZID=UTC:20160804T100000
DTEND;TZID=UTC:20160804T120000
DTSTAMP:20260421T080406
CREATED:20160722T151053Z
LAST-MODIFIED:20160722T151358Z
UID:3113-1470304800-1470312000@www.gotarrendura.es
SUMMARY:XXI semana cultural y fiestas patronales 2016
DESCRIPTION:10.00 Rastrillo solidario \n18.30 Juegos populares y guerra de globos de agua \n20.00 Castillo hinchable \n00.30 Dicco móvil. Discodisk \n
URL:https://www.gotarrendura.es/evento/xxi-semana-cultural-y-fiestas-patronales-2016-6/
LOCATION:Gotarrendura\, 05163\, España
END:VEVENT
END:VCALENDAR