BEGIN:VCALENDAR
VERSION:2.0
PRODID:-//Ayuntamiento de Gotarrendura - ECPv5.0.3.1//NONSGML v1.0//EN
CALSCALE:GREGORIAN
METHOD:PUBLISH
X-WR-CALNAME:Ayuntamiento de Gotarrendura
X-ORIGINAL-URL:https://www.gotarrendura.es
X-WR-CALDESC:Eventos para Ayuntamiento de Gotarrendura
BEGIN:VTIMEZONE
TZID:UTC
BEGIN:STANDARD
TZOFFSETFROM:+0000
TZOFFSETTO:+0000
TZNAME:UTC
DTSTART:20220101T000000
END:STANDARD
END:VTIMEZONE
BEGIN:VEVENT
DTSTART;TZID=UTC:20220924T123000
DTEND;TZID=UTC:20220924T150000
DTSTAMP:20260421T164034
CREATED:20220924T074234Z
LAST-MODIFIED:20221216T131819Z
UID:3813-1664022600-1664031600@www.gotarrendura.es
SUMMARY:VI Rural Color Run de Disfraces Benefica por PYFANO
DESCRIPTION:VI Rural Color Run de Disfraces Benefica por PYFANO. \n24 sábado de septiembre 12.30H. \nPREMIO AL MEJOR DISFRAZ \n
URL:https://www.gotarrendura.es/evento/vi-rural-color-run-de-disfraces-benefica-por-pyfano/
CATEGORIES:baile,Celebración,concierto,evento,Fiesta,Música
ATTACH;FMTTYPE=image/jpeg:https://www.gotarrendura.es/wp-content/uploads/2022/12/evento_carrera_2022_.jpg
END:VEVENT
END:VCALENDAR