BEGIN:VCALENDAR
VERSION:2.0
PRODID:-//Ayuntamiento de Gotarrendura - ECPv5.0.3.1//NONSGML v1.0//EN
CALSCALE:GREGORIAN
METHOD:PUBLISH
X-WR-CALNAME:Ayuntamiento de Gotarrendura
X-ORIGINAL-URL:https://www.gotarrendura.es
X-WR-CALDESC:Eventos para Ayuntamiento de Gotarrendura
BEGIN:VTIMEZONE
TZID:UTC
BEGIN:STANDARD
TZOFFSETFROM:+0000
TZOFFSETTO:+0000
TZNAME:UTC
DTSTART:20220101T000000
END:STANDARD
END:VTIMEZONE
BEGIN:VEVENT
DTSTART;TZID=UTC:20220718T080000
DTEND;TZID=UTC:20220801T170000
DTSTAMP:20260422T131401
CREATED:20220427T110421Z
LAST-MODIFIED:20220427T110508Z
UID:3755-1658131200-1659373200@www.gotarrendura.es
SUMMARY:VI Campo Voluntariado Juvenil 2022
DESCRIPTION:VI Campo Voluntariado Juvenil 2022\nBiolago “Constelación del Cisne”\nGotarrendura\, Ávila.\nDel 18 de julio al 1 de agosto.\nDirigido a jóvenes de 16 y 17 años.\nDisfruta de 15 días haciendo nuevos amigos y realizando un trabajo voluntario en beneficio de la comunidad.\nCon actividades de ocio y tiempo libre dedicadas a la astronomía. \nPara más información: 920269038 / 615658068\nInscripciones hasta el 5 de mayo en:\nhttps://www.tramitacastillayleon.jcyl.es/web/jcyl/AdministracionElectronica/es/Plantilla100Detalle/1251181050732/Tramite/1285160950776/Tramite \nPRECIO\n110 € \n
URL:https://www.gotarrendura.es/evento/vi-campo-voluntariado-juvenil-2022/
ATTACH;FMTTYPE=image/jpeg:https://www.gotarrendura.es/wp-content/uploads/2022/04/evento_cartel_VI_campo_voluntariado_juvenil.jpg
END:VEVENT
END:VCALENDAR