BEGIN:VCALENDAR
VERSION:2.0
PRODID:-//Ayuntamiento de Gotarrendura - ECPv5.0.3.1//NONSGML v1.0//EN
CALSCALE:GREGORIAN
METHOD:PUBLISH
X-WR-CALNAME:Ayuntamiento de Gotarrendura
X-ORIGINAL-URL:https://www.gotarrendura.es
X-WR-CALDESC:Eventos para Ayuntamiento de Gotarrendura
BEGIN:VTIMEZONE
TZID:UTC
BEGIN:STANDARD
TZOFFSETFROM:+0000
TZOFFSETTO:+0000
TZNAME:UTC
DTSTART:20230101T000000
END:STANDARD
END:VTIMEZONE
BEGIN:VEVENT
DTSTART;TZID=UTC:20230624T213000
DTEND;TZID=UTC:20230625T003000
DTSTAMP:20260424T184431
CREATED:20230622T184903Z
LAST-MODIFIED:20230622T185647Z
UID:4529-1687642200-1687653000@www.gotarrendura.es
SUMMARY:Velada astronómica
DESCRIPTION:VELADA ASTRONÓMICA \nGotarrendura \nSábado 24 de junio de 2023 \nObservación de la Luna. \nVenus en fase. \nLa bóveda celeste y objetos del espacio profundo. \n•PROGRAMA CRONOLÓGICO \n21.30H \nIniciación a la astronomía La vida de una estrella\, cómo utilizar un telescopio recuperación del cielo nocturno. \n22.30H \nObservación de la Luna en fose creciente y de Venus en fase decreciente. Explicación de la bóveda celeste. Visionado de los constelaciones\, estrellas más brillantes\, historia y mitología. \n23.30H \nObservación del espacio profundo\, estrellasdobles\, cúmulos estelares\, nebulosas y galaxias. \nLa asistencia está permitido\, aunque para realizar las observaciones es necesario inscribirse hasta completo aforo [30 personas]. \nLugar de la actividad: Mirador de estrellas de Gotarrendura. \nLugar de inscripción: Avuntamiento de Gotarrendura. \nPersona de contacto Beatriz 615 680 068. \nOrganiza: \nASTRONOMÍAPORUNTUBO \nMáximo de 30 personos. \nTras la observación tomaremos chocolate en las nuevas tazas de Gotarrendura. \n¡NO SE QUEDES SIN ELLA! \nObsequio para todos los asistentes. \n
URL:https://www.gotarrendura.es/evento/velada-astronomica/
LOCATION:Gotarrendura\, Plaza de Santa Teresa 1\,\, Gotarrendra\, Ávila\, 05163\, España
CATEGORIES:astronomía,cultura
ATTACH;FMTTYPE=image/jpeg:https://www.gotarrendura.es/wp-content/uploads/2023/06/evento_velada_astronomica.jpg
END:VEVENT
END:VCALENDAR