BEGIN:VCALENDAR
VERSION:2.0
PRODID:-//Ayuntamiento de Gotarrendura - ECPv5.0.3.1//NONSGML v1.0//EN
CALSCALE:GREGORIAN
METHOD:PUBLISH
X-WR-CALNAME:Ayuntamiento de Gotarrendura
X-ORIGINAL-URL:https://www.gotarrendura.es
X-WR-CALDESC:Eventos para Ayuntamiento de Gotarrendura
BEGIN:VTIMEZONE
TZID:UTC
BEGIN:STANDARD
TZOFFSETFROM:+0000
TZOFFSETTO:+0000
TZNAME:UTC
DTSTART:20190101T000000
END:STANDARD
END:VTIMEZONE
BEGIN:VEVENT
DTSTART;TZID=UTC:20190927T230000
DTEND;TZID=UTC:20190929T230000
DTSTAMP:20260421T141833
CREATED:20190918T111942Z
LAST-MODIFIED:20190918T112100Z
UID:3528-1569625200-1569798000@www.gotarrendura.es
SUMMARY:San Miguel Arcángel
DESCRIPTION:Viernes 27\n23:00h. Charanga  a cargo de “las Tres JJJ”. \nSábado 28\nCarrera Rural de Obstáculos a Favor de ACNUR. (Programa a parte) a las  11:00h.\n16:00h. Juego de Mesa “MUS”.\n19:00h. Presentación de los Libros “LAR  I: CUENTOS PARA EL ALMA” y “LAR  II: EL CIELO EN LA TIERRA” de Maribel Cid Miranda acompañada del ukelele de Judit Bragado en el salón cultural.\n22:30h. Teatro Grupo Aficionados Cardeñosa con la obra de  “En un Lugar de Castilla”. Traer Sillas. Rifa de una paletilla.\n00:00h. Discomóvil.  \nDomingo 29\n12:30h. Misa y Procesión.\n17:00h. Presentación de la Asociación Gotarrendura Activa.\n18.00h. Bolos Femeninos y Calva Masculino.\n19.00h. Chocolate.  \n
URL:https://www.gotarrendura.es/evento/san-miguel-arcangel-2/
LOCATION:Varias localizaciones\, Gotarrendura\, Ávila\, 05163\, España
ATTACH;FMTTYPE=image/jpeg:https://www.gotarrendura.es/wp-content/uploads/2019/09/eventos_cartel_san_miguel.jpg
END:VEVENT
END:VCALENDAR