BEGIN:VCALENDAR
VERSION:2.0
PRODID:-//Ayuntamiento de Gotarrendura - ECPv5.0.3.1//NONSGML v1.0//EN
CALSCALE:GREGORIAN
METHOD:PUBLISH
X-WR-CALNAME:Ayuntamiento de Gotarrendura
X-ORIGINAL-URL:https://www.gotarrendura.es
X-WR-CALDESC:Eventos para Ayuntamiento de Gotarrendura
BEGIN:VTIMEZONE
TZID:UTC
BEGIN:STANDARD
TZOFFSETFROM:+0000
TZOFFSETTO:+0000
TZNAME:UTC
DTSTART:20200101T000000
END:STANDARD
END:VTIMEZONE
BEGIN:VEVENT
DTSTART;TZID=UTC:20200119T113000
DTEND;TZID=UTC:20200119T180000
DTSTAMP:20260421T104901
CREATED:20200111T171729Z
LAST-MODIFIED:20200111T172153Z
UID:3558-1579433400-1579456800@www.gotarrendura.es
SUMMARY:San Antón 2020
DESCRIPTION:11.30h.\nMisa y Procesión en la Iglesia de San Miguel Arcángel.\nBendición de los animales e invitación de Bollo Preñao y a continuación Barbacoa. \n
URL:https://www.gotarrendura.es/evento/san-anton-2020/
LOCATION:Iglesia de San Miguel Arcangel\, Plaza del Campanario 1\, Gotarrendura\, Ávila\, 05163\, España
CATEGORIES:Barbacoa,Misa
ATTACH;FMTTYPE=image/jpeg:https://www.gotarrendura.es/wp-content/uploads/2020/01/evento_cartel_san_anton2020.jpg
END:VEVENT
END:VCALENDAR