BEGIN:VCALENDAR
VERSION:2.0
PRODID:-//Ayuntamiento de Gotarrendura - ECPv5.0.3.1//NONSGML v1.0//EN
CALSCALE:GREGORIAN
METHOD:PUBLISH
X-WR-CALNAME:Ayuntamiento de Gotarrendura
X-ORIGINAL-URL:https://www.gotarrendura.es
X-WR-CALDESC:Eventos para Ayuntamiento de Gotarrendura
BEGIN:VTIMEZONE
TZID:UTC
BEGIN:STANDARD
TZOFFSETFROM:+0000
TZOFFSETTO:+0000
TZNAME:UTC
DTSTART:20190101T000000
END:STANDARD
END:VTIMEZONE
BEGIN:VEVENT
DTSTART;TZID=UTC:20190105T183000
DTEND;TZID=UTC:20190105T210000
DTSTAMP:20260423T083000
CREATED:20190104T192610Z
LAST-MODIFIED:20190104T192610Z
UID:3428-1546713000-1546722000@www.gotarrendura.es
SUMMARY:Reyes Magos 2019
DESCRIPTION:Reyes Magos 2019 – sábado 05.01.2019. \nErmita Nuestra Señora de las Nieves\nRecibimiento y Adoración 18.30h. \nA continuación en el Ayuntamiento los más pequeños hablarán con los Reyes Magos y todos degustaremos el Roscón. \n
URL:https://www.gotarrendura.es/evento/reyes-magos-2019/
LOCATION:Ermita Nuestra Señora de las Nieves\, Plaza del Campanario 4\, Gotarrendura\, Ávila\, 05163\, España
CATEGORIES:Reyes Magos
ATTACH;FMTTYPE=image/jpeg:https://www.gotarrendura.es/wp-content/uploads/2019/01/eventos_reyes2019.jpg
END:VEVENT
END:VCALENDAR