BEGIN:VCALENDAR
VERSION:2.0
PRODID:-//Ayuntamiento de Gotarrendura - ECPv5.0.3.1//NONSGML v1.0//EN
CALSCALE:GREGORIAN
METHOD:PUBLISH
X-WR-CALNAME:Ayuntamiento de Gotarrendura
X-ORIGINAL-URL:https://www.gotarrendura.es
X-WR-CALDESC:Eventos para Ayuntamiento de Gotarrendura
BEGIN:VTIMEZONE
TZID:UTC
BEGIN:STANDARD
TZOFFSETFROM:+0000
TZOFFSETTO:+0000
TZNAME:UTC
DTSTART:20200101T000000
END:STANDARD
END:VTIMEZONE
BEGIN:VEVENT
DTSTART;TZID=UTC:20200805T220000
DTEND;TZID=UTC:20200806T003000
DTSTAMP:20260421T162451
CREATED:20200719T103916Z
LAST-MODIFIED:20200719T104102Z
UID:3608-1596664800-1596673800@www.gotarrendura.es
SUMMARY:Por los caminos de la Reina
DESCRIPTION:\n\n\n\n\nX EDICION \nGotarrendura y el paso del Cortejo Fúnebre de Isabel I \n\n\n\n\n\nMiercoles 5 de Agosto \n\n\n\n\n\n\n22:00 h.\nObra de teatro: ISABEL\, CRISTOBAL Y COMPAÑIA. \nDirector : Julio San Segundo. \n23:15 h. \nConcierto Medieval. MERAKI DUO. \nArtistas: Ana Maria Rodriguez y Layla San Segundo. \nLugar: Palomar de Santa Teresa. \nLos participantes que acudan vestidos de epoca medieval \, tendran un obsequio. \nAforo maximo: 110 personas. \n\n\n\n\n\n\n\n\n\nSe cumplirán las normativas del ACUERDO 29/2020\, de 19 de junio\, de la Junta de Castilla y León\, por el que se aprueba el Plan de Medidas de Prevención y Control para hacer frente a la crisis sanitaria ocasionada por la COVID-19\, en la Comunidad de Castilla y León. \n\n\nParticipar en estos eventos conlleva el consentimiento de los datos personales\, imágenes\, videos derivados del mismo\, en adaptación de nuestra política de protección de datos con la entrada en vigor del Reglamento General de Protección de Datos UE 2016/679. Para más información pónganse en contacto con el Ayuntamiento de Gotarrendura: aytogotarrendura@gmail.com \n\n\n\n\nOrganiza: Ayuntamiento de Gotarrendura \nColabora: Diputación de Ávila \nAyuntamiento de Gotarrendura. \nTel.: 920 26 90 38 / 615 65 80 68 \ngotarrendura.es \nemail: aytogotarrendura@gmail.com \n\n\n\n\n\n
URL:https://www.gotarrendura.es/evento/por-los-caminos-de-la-reina/
CATEGORIES:evento
ATTACH;FMTTYPE=image/jpeg:https://www.gotarrendura.es/wp-content/uploads/2020/07/eventos_por_los_caminos_de_la_reina_2020.jpg
END:VEVENT
END:VCALENDAR