BEGIN:VCALENDAR
VERSION:2.0
PRODID:-//Ayuntamiento de Gotarrendura - ECPv5.0.3.1//NONSGML v1.0//EN
CALSCALE:GREGORIAN
METHOD:PUBLISH
X-WR-CALNAME:Ayuntamiento de Gotarrendura
X-ORIGINAL-URL:https://www.gotarrendura.es
X-WR-CALDESC:Eventos para Ayuntamiento de Gotarrendura
BEGIN:VTIMEZONE
TZID:UTC
BEGIN:STANDARD
TZOFFSETFROM:+0000
TZOFFSETTO:+0000
TZNAME:UTC
DTSTART:20230101T000000
END:STANDARD
END:VTIMEZONE
BEGIN:VEVENT
DTSTART;TZID=UTC:20230730T220000
DTEND;TZID=UTC:20230730T233000
DTSTAMP:20260424T214623
CREATED:20230727T133738Z
LAST-MODIFIED:20230727T133812Z
UID:4543-1690754400-1690759800@www.gotarrendura.es
SUMMARY:Por los caminos de La Reina XIII edición
DESCRIPTION:Por los caminos de La Reina XIII edició.\nDomingo 30 de julio de 2023. \n22.00H.\nSalida desde la Iglesia de San Miguel Arcangel.\nCortejo Funebre por Gotarrendura.\nLectura de trazos de historia de Gotarrendura. \n23.00H.\nBaile tradicional: Jotas. En la Pista Deportiva.\nCon la musica de Aires de la Morana\nGrupo folcrorico AVENTO de San Nicolas.\nTe esperamos\, ven vestido de Epoca Medieval. \n
URL:https://www.gotarrendura.es/evento/por-los-caminos-de-la-reina-xiii-edicion/
LOCATION:Iglesia de San Miguel Arcangel\, Plaza del Campanario 1\, Gotarrendura\, Ávila\, 05163\, España
ATTACH;FMTTYPE=image/jpeg:https://www.gotarrendura.es/wp-content/uploads/2023/07/evento_por_los_caminos_de_la_reina.jpg
END:VEVENT
END:VCALENDAR