BEGIN:VCALENDAR
VERSION:2.0
PRODID:-//Ayuntamiento de Gotarrendura - ECPv5.0.3.1//NONSGML v1.0//EN
CALSCALE:GREGORIAN
METHOD:PUBLISH
X-WR-CALNAME:Ayuntamiento de Gotarrendura
X-ORIGINAL-URL:https://www.gotarrendura.es
X-WR-CALDESC:Eventos para Ayuntamiento de Gotarrendura
BEGIN:VTIMEZONE
TZID:UTC
BEGIN:STANDARD
TZOFFSETFROM:+0000
TZOFFSETTO:+0000
TZNAME:UTC
DTSTART:20170101T000000
END:STANDARD
END:VTIMEZONE
BEGIN:VEVENT
DTSTART;TZID=UTC:20170801T213000
DTEND;TZID=UTC:20170801T213000
DTSTAMP:20260421T185644
CREATED:20170729T085900Z
LAST-MODIFIED:20170729T085933Z
UID:3238-1501623000-1501623000@www.gotarrendura.es
SUMMARY:Por los caminos de la Reina VII edición.
DESCRIPTION:Por los caminos de la Reina VII edición. \n
URL:https://www.gotarrendura.es/evento/por-los-caminos-de-la-reina-vii-edicion-v/
LOCATION:Gotarrendura\, 05163\, España
ATTACH;FMTTYPE=image/jpeg:https://www.gotarrendura.es/wp-content/uploads/2017/07/eventos_por_los_caminos_de_la_reina_2017.jpg
END:VEVENT
END:VCALENDAR