BEGIN:VCALENDAR
VERSION:2.0
PRODID:-//Ayuntamiento de Gotarrendura - ECPv5.0.3.1//NONSGML v1.0//EN
CALSCALE:GREGORIAN
METHOD:PUBLISH
X-WR-CALNAME:Ayuntamiento de Gotarrendura
X-ORIGINAL-URL:https://www.gotarrendura.es
X-WR-CALDESC:Eventos para Ayuntamiento de Gotarrendura
BEGIN:VTIMEZONE
TZID:UTC
BEGIN:STANDARD
TZOFFSETFROM:+0000
TZOFFSETTO:+0000
TZNAME:UTC
DTSTART:20200101T000000
END:STANDARD
END:VTIMEZONE
BEGIN:VEVENT
DTSTART;TZID=UTC:20200328T100000
DTEND;TZID=UTC:20200328T180000
DTSTAMP:20260421T132859
CREATED:20200225T114937Z
LAST-MODIFIED:20200225T115031Z
UID:3569-1585389600-1585418400@www.gotarrendura.es
SUMMARY:Por los Caminos de la Mística
DESCRIPTION:10:00 h. Plaza Santa Teresa de Gotarrendura .\nRecepción de participantes y traslado a El Oso \n10:30 h. Visita Centro de Interpretación La Laguna de El Oso. \n12:30 h. Llegada al Museo López Berrón de Gotarrendura.\nLectura de la Vida de Teresa de Jesús en Forma de cuento. Después los niños leerán frases de la Santa.\nEntrega de Premio de “Concurso de pin- tura Infantil”. (Información del concurso a Ayto de Gotarrendura). \n13:30 h. Comida en el Museo López Berrón. \n17:30 h. Plantación de Morera en el Jardín de Teresa. \n
URL:https://www.gotarrendura.es/evento/por-los-caminos-de-la-mistica-3/
LOCATION:Plaza de Santa Teresa\, Plaza de Santa Teresa\, Gotarrendura\, Ávila\, 05163\, España
CATEGORIES:Marcha
ATTACH;FMTTYPE=image/jpeg:https://www.gotarrendura.es/wp-content/uploads/2020/02/eventos_cartel_mistica_2020.jpg
END:VEVENT
END:VCALENDAR