BEGIN:VCALENDAR
VERSION:2.0
PRODID:-//Ayuntamiento de Gotarrendura - ECPv5.0.3.1//NONSGML v1.0//EN
CALSCALE:GREGORIAN
METHOD:PUBLISH
X-WR-CALNAME:Ayuntamiento de Gotarrendura
X-ORIGINAL-URL:https://www.gotarrendura.es
X-WR-CALDESC:Eventos para Ayuntamiento de Gotarrendura
BEGIN:VTIMEZONE
TZID:UTC
BEGIN:STANDARD
TZOFFSETFROM:+0000
TZOFFSETTO:+0000
TZNAME:UTC
DTSTART:20180101T000000
END:STANDARD
END:VTIMEZONE
BEGIN:VEVENT
DTSTART;TZID=UTC:20181208T110000
DTEND;TZID=UTC:20181208T160000
DTSTAMP:20260421T104832
CREATED:20181201T233545Z
LAST-MODIFIED:20181201T233545Z
UID:3417-1544266800-1544284800@www.gotarrendura.es
SUMMARY:La Matanza2018
DESCRIPTION:11.00h. Comienzo a la tradicional matanza del cerdo: «churrascar» y «raspar» con orujo y pastas para desayunar.\nLuqar: Camino de las Berlanas. \n12.00h. Demostración del destazado\, chicharrones\, elaboración de mondonqo y taller de chorizos. Dequstación del típico caldo baldo.\nLuqar: Plaza de Santa Teresa. \n13.30h. Degustación de las delicias artesanas a la antigua usanza de la familia de Santa Teresa: morcilla\, picadillo\, torreznillos\, chicharrones y carne a la brasa acompañados con pan de hoqaza. (límite: 500 consumiciones)\nLugar: Plaza de Santa Teresa. \n
URL:https://www.gotarrendura.es/evento/la-matanza2018/
LOCATION:Plaza de Santa Teresa\, Plaza de Santa Teresa\, Gotarrendura\, Ávila\, 05163\, España
ATTACH;FMTTYPE=image/jpeg:https://www.gotarrendura.es/wp-content/uploads/2018/12/eventos_cartel_matanza2018.jpg
END:VEVENT
END:VCALENDAR