BEGIN:VCALENDAR
VERSION:2.0
PRODID:-//Ayuntamiento de Gotarrendura - ECPv5.0.3.1//NONSGML v1.0//EN
CALSCALE:GREGORIAN
METHOD:PUBLISH
X-WR-CALNAME:Ayuntamiento de Gotarrendura
X-ORIGINAL-URL:https://www.gotarrendura.es
X-WR-CALDESC:Eventos para Ayuntamiento de Gotarrendura
BEGIN:VTIMEZONE
TZID:UTC
BEGIN:STANDARD
TZOFFSETFROM:+0000
TZOFFSETTO:+0000
TZNAME:UTC
DTSTART:20220101T000000
END:STANDARD
END:VTIMEZONE
BEGIN:VEVENT
DTSTART;TZID=UTC:20220807T213000
DTEND;TZID=UTC:20220807T213000
DTSTAMP:20260421T132804
CREATED:20220805T075944Z
LAST-MODIFIED:20220805T075944Z
UID:3799-1659907800-1659907800@www.gotarrendura.es
SUMMARY:IV Noche de las Artes 2022
DESCRIPTION:IV Noche de las Artes 2022 \nDomingo 07 de agosto de 2022 \n21.30H\nBienvenida a cargo de la Alcaldesa Mª Yolanda de Juan López.\nInauguración exposición fotografía «Montaña Viva» de Adrián de Juan Gutiérrez. \n21.45H\n«Cuentos de Lana» de la mano de la narradora Esmeralda Folgado. \n22.30H\nPresentación del libro colaborativo «AV. Confidencial»\nde la Asociación de novelistas La Sombra del Ciprés y el cómic «Los Comuneros en Gotarrendura»\, por parte de Cristóbal Medina Montero\, Julio Veredas y Gris Medina \n22.45H\nConcierto del grupo de cuerda y voz «Meraki Música». \n
URL:https://www.gotarrendura.es/evento/iv-noche-de-las-artes-2022/
LOCATION:Gotarrendura\, Plaza de Santa Teresa 1\,\, Gotarrendra\, Ávila\, 05163\, España
CATEGORIES:Arte,concierto,cultura,Música
END:VEVENT
END:VCALENDAR