BEGIN:VCALENDAR
VERSION:2.0
PRODID:-//Ayuntamiento de Gotarrendura - ECPv5.0.3.1//NONSGML v1.0//EN
CALSCALE:GREGORIAN
METHOD:PUBLISH
X-WR-CALNAME:Ayuntamiento de Gotarrendura
X-ORIGINAL-URL:https://www.gotarrendura.es
X-WR-CALDESC:Eventos para Ayuntamiento de Gotarrendura
BEGIN:VTIMEZONE
TZID:UTC
BEGIN:STANDARD
TZOFFSETFROM:+0000
TZOFFSETTO:+0000
TZNAME:UTC
DTSTART:20240101T000000
END:STANDARD
END:VTIMEZONE
BEGIN:VEVENT
DTSTART;TZID=UTC:20240601T200000
DTEND;TZID=UTC:20240601T233000
DTSTAMP:20260421T182224
CREATED:20240524T143419Z
LAST-MODIFIED:20240531T174251Z
UID:4748-1717272000-1717284600@www.gotarrendura.es
SUMMARY:Gotarrendura Música con Estrellas
DESCRIPTION:Gotarrendura Música con Estrellas en el Palomar de Santa Teresa. \n01 de Junio\n20.15H\nMúsica con estrellas\nConcierto de la Orquesta de la Escuela Municipal de Música de Ávila\nCon la colaboración especial de Javier del Real.\nDirige: Layla San Segundo.\nENTRADA GRATUITA \n21.00H\nMerienda para los asistentes. \n22.00H\nMitología con Melodía\nPor Beatriz Garcinuño y Layla San Segundo. \n
URL:https://www.gotarrendura.es/evento/gotarrendura-musica-con-estrellas/
CATEGORIES:Celebración,cultura,juvenil,Música,Turismo
ATTACH;FMTTYPE=image/jpeg:https://www.gotarrendura.es/wp-content/uploads/2024/05/eventos_musica_con_estrellas_OK.jpg
END:VEVENT
END:VCALENDAR