BEGIN:VCALENDAR
VERSION:2.0
PRODID:-//Ayuntamiento de Gotarrendura - ECPv5.0.3.1//NONSGML v1.0//EN
CALSCALE:GREGORIAN
METHOD:PUBLISH
X-WR-CALNAME:Ayuntamiento de Gotarrendura
X-ORIGINAL-URL:https://www.gotarrendura.es
X-WR-CALDESC:Eventos para Ayuntamiento de Gotarrendura
BEGIN:VTIMEZONE
TZID:UTC
BEGIN:STANDARD
TZOFFSETFROM:+0000
TZOFFSETTO:+0000
TZNAME:UTC
DTSTART:20220101T000000
END:STANDARD
END:VTIMEZONE
BEGIN:VEVENT
DTSTART;TZID=UTC:20220924T113000
DTEND;TZID=UTC:20221002T210000
DTSTAMP:20260421T132925
CREATED:20220924T074026Z
LAST-MODIFIED:20221216T131840Z
UID:3811-1664019000-1664744400@www.gotarrendura.es
SUMMARY:Fiestas San Miguel Arcángel 2022
DESCRIPTION:Del sábado 24 de Septiembre al domingo 02 de Octubre. \nSábado 24 de Septiembre de 2022\n11.30H\nSanta Misa Virgen de la Portera\n12.30H\nRural Color Run · Cartel Aparte\n17.30H\nRosario\, Procesión y Subasta\n19.30H\nEn el Bar Los Nenes \nJueves 29 de Septiembre\n12.30H\nSanta Misa y Procesión San Miguel Arcángel\nAmenizada por el Grupo de Dulzaina «Aires de la Moraña».\n15.00H\nPaella Popular\nPrecio 7€\, bebida a parte Inscripción en el Ayuntamiento hasta el 27 de septiembre a las 14.00H.\nSe hará la paella para el número de comensales apuntados.\n21.00H\nBaile Popular con Dulzaina Aires de la Moraña. \nViernes 30 de Septiembre\n18.00H\nJuegos Autóctonos Bolos y Tango\nPremio para los primeros puestos\n22.30H\nConcierto Dos Perros\nBingo en el descanso del concierto. \nSábado 1 de Octubre\n15.00H Comida Popular\nPatatas Revolconas\nPrecio 7€\, bebida a parte.\nInscripción en el Ayuntamiento hasta el 29 de\nseptiembre a las 14.00H\nSe harán patatas para el número de comensales apuntados.\n17.00H\nJuego de mesa\, MUS\nInscripción 10 € por pareja\n19.30H\nRecital Poético Musicado\nOrganizado por Asociación Mujeres Rurales La Andariega.\nLugar: Salón Cultural Asc. Sta. Teresa\nCartel a parte.\n23.00H\nDisco Móvil Espectáculos Pika\nBingo en el descanso. \nDomingo\, 2 de Octubre\n11.30H Santa Misa\, en la Plaza Santa Teresa\n12.30H Pinta Caras Infantil\nEMOCIÓN EN TRIBU\nEn la Plaza Santa Teresa\n17.00H\nJuegos Autóctonos. La Calva.\nPremio para el 1º puesto.\n18.30H\nJuegos Autóctonos Infantiles. \n
URL:https://www.gotarrendura.es/evento/fiestas-san-miguel-arcangel-2022/
CATEGORIES:baile,concierto,cultura,disfraces,evento,Fiesta,San Miguel
END:VEVENT
END:VCALENDAR