BEGIN:VCALENDAR
VERSION:2.0
PRODID:-//Ayuntamiento de Gotarrendura - ECPv5.0.3.1//NONSGML v1.0//EN
CALSCALE:GREGORIAN
METHOD:PUBLISH
X-WR-CALNAME:Ayuntamiento de Gotarrendura
X-ORIGINAL-URL:https://www.gotarrendura.es
X-WR-CALDESC:Eventos para Ayuntamiento de Gotarrendura
BEGIN:VTIMEZONE
TZID:UTC
BEGIN:STANDARD
TZOFFSETFROM:+0000
TZOFFSETTO:+0000
TZNAME:UTC
DTSTART:20150101T000000
END:STANDARD
END:VTIMEZONE
BEGIN:VEVENT
DTSTART;TZID=UTC:20150815T170000
DTEND;TZID=UTC:20150815T190000
DTSTAMP:20260421T105037
CREATED:20150319T103531Z
LAST-MODIFIED:20150319T114413Z
UID:2970-1439658000-1439665200@www.gotarrendura.es
SUMMARY:Eventos del V Centenario del Nacimiento de Teresa de Ahumada programa para 2015
DESCRIPTION:Eventos del V Centenario del Nacimiento de Teresa de Ahumada programa para 2015 \nMonasterio de San José de Nuestra Señora de la Calle\, Palencia\nMonasterio de la Santísima Trinidad\, Soria\nMonasterio de San José\, Granada\n(Paco Vázquez\, historiador\, por confirmar) \n
URL:https://www.gotarrendura.es/evento/eventos-del-v-centenario-del-nacimiento-de-teresa-de-ahumada-programa-para-2015-5/
ATTACH;FMTTYPE=image/jpeg:https://www.gotarrendura.es/wp-content/uploads/2015/03/v_centenario.jpg
END:VEVENT
END:VCALENDAR