BEGIN:VCALENDAR
VERSION:2.0
PRODID:-//Ayuntamiento de Gotarrendura - ECPv5.0.3.1//NONSGML v1.0//EN
CALSCALE:GREGORIAN
METHOD:PUBLISH
X-WR-CALNAME:Ayuntamiento de Gotarrendura
X-ORIGINAL-URL:https://www.gotarrendura.es
X-WR-CALDESC:Eventos para Ayuntamiento de Gotarrendura
BEGIN:VTIMEZONE
TZID:UTC
BEGIN:STANDARD
TZOFFSETFROM:+0000
TZOFFSETTO:+0000
TZNAME:UTC
DTSTART:20150101T000000
END:STANDARD
END:VTIMEZONE
BEGIN:VEVENT
DTSTART;TZID=UTC:20150711T170000
DTEND;TZID=UTC:20150711T190000
DTSTAMP:20260421T092938
CREATED:20150319T103347Z
LAST-MODIFIED:20150319T103940Z
UID:2968-1436634000-1436641200@www.gotarrendura.es
SUMMARY:Eventos del V Centenario del Nacimiento de Teresa de Ahumada programa para 2015
DESCRIPTION:Eventos del V Centenario del Nacimiento de Teresa de Ahumada programa para 2015 \nMonasterio de San José\, Sevilla\nMonasterio de San José\, Caravaca de la Cruz (Murcia)\nMonasterio de Santa Ana\, Villanueva de la Jara (Cuenca)\nArturo Diaz Conejo – Santa Teresa\, infancia y juventud \n
URL:https://www.gotarrendura.es/evento/eventos-del-v-centenario-del-nacimiento-de-teresa-de-ahumada-programa-para-2015-4/
ATTACH;FMTTYPE=image/jpeg:https://www.gotarrendura.es/wp-content/uploads/2015/03/v_centenario.jpg
END:VEVENT
END:VCALENDAR