BEGIN:VCALENDAR
VERSION:2.0
PRODID:-//Ayuntamiento de Gotarrendura - ECPv5.0.3.1//NONSGML v1.0//EN
CALSCALE:GREGORIAN
METHOD:PUBLISH
X-WR-CALNAME:Ayuntamiento de Gotarrendura
X-ORIGINAL-URL:https://www.gotarrendura.es
X-WR-CALDESC:Eventos para Ayuntamiento de Gotarrendura
BEGIN:VTIMEZONE
TZID:UTC
BEGIN:STANDARD
TZOFFSETFROM:+0000
TZOFFSETTO:+0000
TZNAME:UTC
DTSTART:20200101T000000
END:STANDARD
END:VTIMEZONE
BEGIN:VEVENT
DTSTART;TZID=UTC:20200404T093000
DTEND;TZID=UTC:20200407T203000
DTSTAMP:20260421T151138
CREATED:20200311T102701Z
LAST-MODIFIED:20200311T102837Z
UID:3574-1585992600-1586291400@www.gotarrendura.es
SUMMARY:Curso de monitor de ocio y tiempo libre
DESCRIPTION:Curso de monitor de ocio y tiempo libre\nDel 4 al 7 de abril de 2020\, intensivo.\nPrecio: 200€.\nInscripciones:\nwww.entuayuda.com\nInformación:\naytogotarrendura@gmail.com / 615 658 068\nImparte:\nEscuela Plastilina\, escuelaplastilina@entuayuda.com\nOrganiza:\nAyuntamiento de Gotarrendura\nDe 9:30h. a 14:30h. y de 15:30h. a 20:30h. \nAlojamiento Gratuito en Albergue Municipal. \n
URL:https://www.gotarrendura.es/evento/curso-de-monitor-de-ocio-y-tiempo-libre/
CATEGORIES:Curso
ATTACH;FMTTYPE=image/jpeg:https://www.gotarrendura.es/wp-content/uploads/2020/03/noticias_monitor_tiempo_libre.jpg
END:VEVENT
END:VCALENDAR