BEGIN:VCALENDAR
VERSION:2.0
PRODID:-//Ayuntamiento de Gotarrendura - ECPv5.0.3.1//NONSGML v1.0//EN
CALSCALE:GREGORIAN
METHOD:PUBLISH
X-WR-CALNAME:Ayuntamiento de Gotarrendura
X-ORIGINAL-URL:https://www.gotarrendura.es
X-WR-CALDESC:Eventos para Ayuntamiento de Gotarrendura
BEGIN:VTIMEZONE
TZID:UTC
BEGIN:STANDARD
TZOFFSETFROM:+0000
TZOFFSETTO:+0000
TZNAME:UTC
DTSTART:20150101T000000
END:STANDARD
END:VTIMEZONE
BEGIN:VEVENT
DTSTART;VALUE=DATE:20151018
DTEND;VALUE=DATE:20151019
DTSTAMP:20260421T132924
CREATED:20150318T192227Z
LAST-MODIFIED:20150318T192227Z
UID:2952-1445126400-1445212799@www.gotarrendura.es
SUMMARY:Clausura del V Centenario - Lectura del Testamento
DESCRIPTION:Evento del V Centenario del Nacimiento de Teresa de Ahumada programa para 2015 \n
URL:https://www.gotarrendura.es/evento/clausura-del-v-centenario-lectura-del-testamento/
LOCATION:Gotarrendura\, 05163\, España
ATTACH;FMTTYPE=image/jpeg:https://www.gotarrendura.es/wp-content/uploads/2015/03/v_centenario.jpg
END:VEVENT
END:VCALENDAR