BEGIN:VCALENDAR
VERSION:2.0
PRODID:-//Ayuntamiento de Gotarrendura - ECPv5.0.3.1//NONSGML v1.0//EN
CALSCALE:GREGORIAN
METHOD:PUBLISH
X-WR-CALNAME:Ayuntamiento de Gotarrendura
X-ORIGINAL-URL:https://www.gotarrendura.es
X-WR-CALDESC:Eventos para Ayuntamiento de Gotarrendura
BEGIN:VTIMEZONE
TZID:UTC
BEGIN:STANDARD
TZOFFSETFROM:+0000
TZOFFSETTO:+0000
TZNAME:UTC
DTSTART:20230101T000000
END:STANDARD
END:VTIMEZONE
BEGIN:VEVENT
DTSTART;TZID=UTC:20230622T180000
DTEND;TZID=UTC:20230622T210000
DTSTAMP:20260424T201051
CREATED:20230622T185518Z
LAST-MODIFIED:20230622T185518Z
UID:4532-1687456800-1687467600@www.gotarrendura.es
SUMMARY:Ciclo de conferencias 2023
DESCRIPTION:CICLO DE CONFERENCIAS 2023 \nCómo transformar territorios rurales\, en riesgo de despoblación en destinos turísticos sostenibles. \nIsabel Sánchez Tejado · Miembro colaborador de la sección de turismo de la institución Gran Duque De Alba. \nJueves 22 de junio de 2023 \n18.00H \nAsociación Cultural Santa Teresa \nSalón cultural Santa Teresa. \nPlaza Campanario 3\, Gotarrendura. \n
URL:https://www.gotarrendura.es/evento/ciclo-de-conferencias-2023/
LOCATION:Salón Culutural Santa Teresa\, Gotarrendura\, Ávila\, 05163\, España
CATEGORIES:Charla,conferencia,Turismo
ATTACH;FMTTYPE=image/jpeg:https://www.gotarrendura.es/wp-content/uploads/2023/06/evento_ciclo_conferencias_2023.jpg
END:VEVENT
END:VCALENDAR