BEGIN:VCALENDAR
VERSION:2.0
PRODID:-//Ayuntamiento de Gotarrendura - ECPv5.0.3.1//NONSGML v1.0//EN
CALSCALE:GREGORIAN
METHOD:PUBLISH
X-WR-CALNAME:Ayuntamiento de Gotarrendura
X-ORIGINAL-URL:https://www.gotarrendura.es
X-WR-CALDESC:Eventos para Ayuntamiento de Gotarrendura
BEGIN:VTIMEZONE
TZID:UTC
BEGIN:STANDARD
TZOFFSETFROM:+0000
TZOFFSETTO:+0000
TZNAME:UTC
DTSTART:20230101T000000
END:STANDARD
END:VTIMEZONE
BEGIN:VEVENT
DTSTART;TZID=UTC:20230218T173000
DTEND;TZID=UTC:20230218T210000
DTSTAMP:20260424T215144
CREATED:20230201T120528Z
LAST-MODIFIED:20230201T120554Z
UID:3851-1676741400-1676754000@www.gotarrendura.es
SUMMARY:Carnaval 2023
DESCRIPTION:17.30H.\nConcentración en la Plaza Santa Teresa.\nDesfile y Pasacalles amenizado por dulzaina y bombo de «Aires de la Moraña» de Gotarrendura.\nConcurso de disfraces.\nPremio al mejor disfraz infantil(hasta 14años) y adulto. \n18.30H. Chocolatada y «Disco infantil» en el bar «Los Nenes”. \n
URL:https://www.gotarrendura.es/evento/carnaval-2023/
LOCATION:Gotarrendura\, Plaza de Santa Teresa 1\,\, Gotarrendra\, Ávila\, 05163\, España
CATEGORIES:carnaval,evento,Fiesta
ATTACH;FMTTYPE=image/jpeg:https://www.gotarrendura.es/wp-content/uploads/2023/02/evento_cartel_carnaval_2023.jpg
END:VEVENT
END:VCALENDAR