BEGIN:VCALENDAR
VERSION:2.0
PRODID:-//Ayuntamiento de Gotarrendura - ECPv5.0.3.1//NONSGML v1.0//EN
CALSCALE:GREGORIAN
METHOD:PUBLISH
X-WR-CALNAME:Ayuntamiento de Gotarrendura
X-ORIGINAL-URL:https://www.gotarrendura.es
X-WR-CALDESC:Eventos para Ayuntamiento de Gotarrendura
BEGIN:VTIMEZONE
TZID:UTC
BEGIN:STANDARD
TZOFFSETFROM:+0000
TZOFFSETTO:+0000
TZNAME:UTC
DTSTART:20190101T000000
END:STANDARD
END:VTIMEZONE
BEGIN:VEVENT
DTSTART;TZID=UTC:20190301T173000
DTEND;TZID=UTC:20190301T210000
DTSTAMP:20260421T151646
CREATED:20190301T190828Z
LAST-MODIFIED:20190301T190905Z
UID:3450-1551461400-1551474000@www.gotarrendura.es
SUMMARY:Carnaval 2019
DESCRIPTION:17:30 h.: Concentración de Disfraces en la Plaza de Santa Teresa.\nDesfile y Pasa Calles\, amenizado por Aires de La Moraña. Para finalizar tomaremos un refresco en el Bar. \n
URL:https://www.gotarrendura.es/evento/carnaval-2019/
LOCATION:Plaza de Santa Teresa\, Plaza de Santa Teresa\, Gotarrendura\, Ávila\, 05163\, España
ATTACH;FMTTYPE=image/jpeg:https://www.gotarrendura.es/wp-content/uploads/2019/03/eventos_Carnaval_2019.jpg
END:VEVENT
END:VCALENDAR