BEGIN:VCALENDAR
VERSION:2.0
PRODID:-//Ayuntamiento de Gotarrendura - ECPv5.0.3.1//NONSGML v1.0//EN
CALSCALE:GREGORIAN
METHOD:PUBLISH
X-WR-CALNAME:Ayuntamiento de Gotarrendura
X-ORIGINAL-URL:https://www.gotarrendura.es
X-WR-CALDESC:Eventos para Ayuntamiento de Gotarrendura
BEGIN:VTIMEZONE
TZID:UTC
BEGIN:STANDARD
TZOFFSETFROM:+0000
TZOFFSETTO:+0000
TZNAME:UTC
DTSTART:20150101T000000
END:STANDARD
END:VTIMEZONE
BEGIN:VEVENT
DTSTART;TZID=UTC:20150328T000000
DTEND;TZID=UTC:20150328T140000
DTSTAMP:20260421T160917
CREATED:20150227T153050Z
LAST-MODIFIED:20150227T153050Z
UID:2934-1427500800-1427551200@www.gotarrendura.es
SUMMARY:500 años | Tarta de chocolate y galletas de la época
DESCRIPTION:
URL:https://www.gotarrendura.es/evento/500-anos-tarta-de-chocolate-y-galletas-de-la-epoca/
ATTACH;FMTTYPE=image/jpeg:https://www.gotarrendura.es/wp-content/uploads/2015/02/eventos_y_proximos_gota_500anos.jpg
END:VEVENT
END:VCALENDAR